BEGIN:VCALENDAR

PRODID:icalendar-ruby
CALSCALE:GREGORIAN
METHOD:REQUEST
BEGIN:VEVENT
DTSTAMP:20260419T145518Z
UID:bf231d28-42c0-49d8-8259-eacd05c38c8d
DTSTART:20251202T103000Z
DTEND:20251203T093000Z
DESCRIPTION:\n\nBe Conected Executive Event\nOrganizational Resilience
  and Risk Management in the Age of Ransomware Attacks\n\nחוסן א
 רגוני וניהול סיכונים בעידן מתקפות כופ
 רה\n\nVeeamמזמינה אתכם לקחת חלק במפגש בכי
 רים ייחודי במסגרת Overnight Event\nהעוסק בחוס
 ן ארגוני וניהול סיכונים בעידן מתקפות 
 כופרה.\nאירוע אינטימי\, חווייתי ומוקפד 
 המשלב תוכן מקצועי ברמה הגבוהה ביותר ע
 ם אירוח יוקרתי\, השראה וקולינריה משובח
 ת.\n\n\n\nהכנס המרכזי של האירוע יעסוק באס
 טרטגיות החיוניות לשמירה על יתרון תחרו
 תי וחוסן עסקי מתמשך ויתמקדב:\n\n מגמות ה
 עדכניות ביותר בתחום מתקפות הכופר ושיט
 ות יעילות לבנייה ולשימור של חוסן ארגו
 ני\n אסטרטגיות הגנה -כלים ושיטות מוכחו
 ת להתמודדות עם איומים מתפתחים\n אבטחת 
 נתונים - פתרונות מתקדמים לאבטחת מידע ר
 גיש בענן היברידי ובסביבות Multi-Cloud\n הבנ
 ת הסיכונים והבטחת ציות רגולטורי מלא (Go
 vernance & Compliance) בשימוש גובר בכלי GenAI\n\nמה 
 מחכה לכם\n\n חווית אירוח יוקרתית במלון 
 בוטניקה שבחיפה\n סיור קולינרי חוויתי ו
 טעים במיוחד באזור חיפה\nהרצאת אורח מפת
 יעה\nדיונים מקצועיים בהובלת מומחי Veeam\n
 Networking איכותי עם בכירים מעולמות ה IT והס
 ייבר\n\n\nתחילת המפגש: יום ג'\, 2.12\, שעה 12:30
 \n\nסיום המפגש: יום ד'\, 3.12\, שעה 11:30\n\n\n\nStay
  updated on latest changes at the conference website: https://veeam-e
 xecutive-event.events.co.il/home
LOCATION:Hotel Botanica\, Ben Gurion 50\, Haifa
ORGANIZER;CN=People & Computers:mailto:events@thepeople.co.il
SEQUENCE:1776610518
SUMMARY:Be Conected Executive Event
URL;VALUE=URI:https://veeam-executive-event.events.co.il/home
X-ALT-DESC;FMTTYPE=text/html:<div align=left dir=ltr><p></p>\n\n<p>Be 
 Conected Executive Event\n<br />Organizational Resilience and Risk Ma
 nagement in the Age of Ransomware Attacks</p>\n\n<p>חוסן ארגו
 ני וניהול סיכונים בעידן מתקפות כופרה</
 p>\n\n<p>Veeamמזמינה אתכם לקחת חלק במפגש בכי
 רים ייחודי במסגרת Overnight Event\n<br />העוסק ב
 חוסן ארגוני וניהול סיכונים בעידן מתקפ
 ות כופרה.\n<br />אירוע אינטימי\, חווייתי ו
 מוקפד המשלב תוכן מקצועי ברמה הגבוהה ב
 יותר עם אירוח יוקרתי\, השראה וקולינריה
  משובחת.</p>\n\n<p>הכנס המרכזי של האירוע יע
 סוק באסטרטגיות החיוניות לשמירה על יתר
 ון תחרותי וחוסן עסקי מתמשך ויתמקדב:</p>\
 n\n<p> מגמות העדכניות ביותר בתחום מתקפות
  הכופר ושיטות יעילות לבנייה ולשימור ש
 ל חוסן ארגוני\n<br /> אסטרטגיות הגנה -כלי
 ם ושיטות מוכחות להתמודדות עם איומים מ
 תפתחים\n<br /> אבטחת נתונים - פתרונות מתק
 דמים לאבטחת מידע רגיש בענן היברידי וב
 סביבות Multi-Cloud\n<br /> הבנת הסיכונים והבטח
 ת ציות רגולטורי מלא (Governance &amp\; Compliance) ב
 שימוש גובר בכלי GenAI</p>\n\n<p>מה מחכה לכם</p>
 \n\n<p> חווית אירוח יוקרתית במלון בוטניק
 ה שבחיפה\n<br /> סיור קולינרי חוויתי וטעי
 ם במיוחד באזור חיפה\n<br />הרצאת אורח מפת
 יעה\n<br />דיונים מקצועיים בהובלת מומחי V
 eeam\n<br />Networking איכותי עם בכירים מעולמות 
 ה IT והסייבר</p>\n\n<p>תחילת המפגש: יום ג'\, 2.
 12\, שעה 12:30</p>\n\n<p>סיום המפגש: יום ד'\, 3.12\, 
 שעה 11:30</p>\n\n<p>Stay updated on latest changes at the conferen
 ce website: https://veeam-executive-event.events.co.il/home</p></div>
BEGIN:VALARM
ACTION:DISPLAY
TRIGGER:-P1D
DESCRIPTION:REMINDER
SUMMARY:Be Conected Executive Event Tomorrow At 12:30!
END:VALARM
END:VEVENT
END:VCALENDAR
